BEGIN:VCALENDAR
VERSION:2.0
PRODID:-//Contratero//ES
CALSCALE:GREGORIAN
METHOD:PUBLISH
BEGIN:VEVENT
UID:SERVICIOS 30/25@contratero.es
DTSTAMP:20260421T220316Z
DTSTART:20250724T235959
DTEND:20250725T005959
SUMMARY:Cierre: Servicios de Subscripción de Aplicación de Gestión
DESCRIPTION:Servicios de Subscripción de Aplicación de Gestión del uso de equipos informáticos en Bibliotecas Municipales\\n\\nOrganismo: Junta de Gobierno del Ayuntamiento de Toledo\\n\\nVer en Contratero: https://contratero.es/contracts/SERVICIOS 30/25
URL:https://contratero.es/contracts/SERVICIOS 30/25
STATUS:CONFIRMED
BEGIN:VALARM
TRIGGER:-P1D
ACTION:DISPLAY
DESCRIPTION:Recordatorio: Servicios de Subscripción de A
END:VALARM
END:VEVENT
END:VCALENDAR